BEGIN:VCALENDAR
VERSION:2.0
PRODID:-//KRTN Enchanted Air Radio - ECPv5.16.4.1//NONSGML v1.0//EN
CALSCALE:GREGORIAN
METHOD:PUBLISH
X-WR-CALNAME:KRTN Enchanted Air Radio
X-ORIGINAL-URL:https://krtnradio.com/wp
X-WR-CALDESC:Events for KRTN Enchanted Air Radio
BEGIN:VTIMEZONE
TZID:America/Denver
BEGIN:DAYLIGHT
TZOFFSETFROM:-0700
TZOFFSETTO:-0600
TZNAME:MDT
DTSTART:20180311T090000
END:DAYLIGHT
BEGIN:STANDARD
TZOFFSETFROM:-0600
TZOFFSETTO:-0700
TZNAME:MST
DTSTART:20181104T080000
END:STANDARD
END:VTIMEZONE
BEGIN:VEVENT
DTSTART;TZID=America/Denver:20180927T100000
DTEND;TZID=America/Denver:20180927T170000
DTSTAMP:20260424T105722
CREATED:20180906T175658Z
LAST-MODIFIED:20180920T214108Z
UID:42800-1538042400-1538067600@krtnradio.com
SUMMARY:Members Needed for Local Work Group
DESCRIPTION:We invite you to participate in the local work group being organized by \nMora/Wagon Mound SWCD\, Western Mora SWCD\, Colfax SWCD & \nTierra Y Montes SWCD \nSeptember 27\, 2018 at 10 a.m. \nUS Forest Service \n1926 North 7th Street \nLas Vegas NM 87701 \nThe Local Work Group will provide input to the SWCD and the Natural Resources Conservation Service (NRCS) on the EQIP implementation for San Miguel\, Mora and Colfax Counties. Members of this work group include federal and state agencies\, as well as local and statewide organizations. \nEach of you is vital in making the Farm Bill work for our cooperators. \nIf you have any questions\, please do not hesitate to contact Travis Vigil (Acting District Conservationist) at (575) 387-2424 x 3.
URL:https://krtnradio.com/wp/event/members-needed-for-local-work-group/
LOCATION:US Forest Service\, 1926 North 7th Street\, Las Vegas\, NM\, 87701
CATEGORIES:Meetings
ATTACH;FMTTYPE=image/jpeg:https://krtnradio.com/wp/wp-content/uploads/2018/09/attentionplease.jpg
END:VEVENT
END:VCALENDAR