BEGIN:VCALENDAR
VERSION:2.0
PRODID:-//KRTN Enchanted Air Radio - ECPv5.16.4.1//NONSGML v1.0//EN
CALSCALE:GREGORIAN
METHOD:PUBLISH
X-WR-CALNAME:KRTN Enchanted Air Radio
X-ORIGINAL-URL:https://krtnradio.com/wp
X-WR-CALDESC:Events for KRTN Enchanted Air Radio
BEGIN:VTIMEZONE
TZID:America/Denver
BEGIN:DAYLIGHT
TZOFFSETFROM:-0700
TZOFFSETTO:-0600
TZNAME:MDT
DTSTART:20180311T090000
END:DAYLIGHT
BEGIN:STANDARD
TZOFFSETFROM:-0600
TZOFFSETTO:-0700
TZNAME:MST
DTSTART:20181104T080000
END:STANDARD
END:VTIMEZONE
BEGIN:VEVENT
DTSTART;TZID=America/Denver:20180923T163000
DTEND;TZID=America/Denver:20180923T190000
DTSTAMP:20260425T152001
CREATED:20180920T213056Z
LAST-MODIFIED:20180920T213056Z
UID:43610-1537720200-1537729200@krtnradio.com
SUMMARY:Meet & Greet Parish Picnic ~ Maxwell United Methodist Church
DESCRIPTION:Maxwell folks are invited to a “meet and greet and eat” parish picnic at Maxwell United Methodist Church on Sunday\, September 23 beginning at 4:30! Come join us as we enjoy autumn!\nThank you\, \nEllen Swain\, Pastor \n575/376-2977.
URL:https://krtnradio.com/wp/event/meet-greet-parish-picnic-maxwell-united-methodist-church/
LOCATION:Maxwell United Methodist Church\, 5th Street\, Maxwell\, NM\, 87728
CATEGORIES:Area Events
ATTACH;FMTTYPE=image/jpeg:https://krtnradio.com/wp/wp-content/uploads/2018/05/picnic.jpg
END:VEVENT
END:VCALENDAR