BEGIN:VCALENDAR
VERSION:2.0
PRODID:-//KRTN Enchanted Air Radio - ECPv5.16.4.1//NONSGML v1.0//EN
CALSCALE:GREGORIAN
METHOD:PUBLISH
X-WR-CALNAME:KRTN Enchanted Air Radio
X-ORIGINAL-URL:https://krtnradio.com/wp
X-WR-CALDESC:Events for KRTN Enchanted Air Radio
BEGIN:VTIMEZONE
TZID:America/Denver
BEGIN:DAYLIGHT
TZOFFSETFROM:-0700
TZOFFSETTO:-0600
TZNAME:MDT
DTSTART:20200308T090000
END:DAYLIGHT
BEGIN:STANDARD
TZOFFSETFROM:-0600
TZOFFSETTO:-0700
TZNAME:MST
DTSTART:20201101T080000
END:STANDARD
END:VTIMEZONE
BEGIN:VEVENT
DTSTART;TZID=America/Denver:20200921T180000
DTEND;TZID=America/Denver:20200921T180000
DTSTAMP:20260424T120947
CREATED:20200912T033944Z
LAST-MODIFIED:20200912T033944Z
UID:66950-1600711200-1600711200@krtnradio.com
SUMMARY:Maxwell Municipal Schools Regular Board Meeting - September 21\, 2020
DESCRIPTION:Mon\, Sep 21\, 2020 6:20 PM – 8:20 PM (MDT)\n\nPlease join my meeting from your computer\, tablet or smartphone.\n\nhttps://global.gotomeeting.com/join/171331101\n\nYou can also dial in using your phone.\n(For supported devices\, tap a one-touch number below to join instantly.)\n\nUnited States: +1 (571) 317-3122\n– One-touch: tel:+15713173122\,\,171331101#\n\nAccess Code: 171-331-101\n\n\nNew to GoToMeeting? Get the app now and be ready when your first meeting starts: https://global.gotomeeting.com/install/171331101
URL:https://krtnradio.com/wp/event/maxwell-municipal-schools-regular-board-meeting-september-21-2020/
CATEGORIES:Meetings
ATTACH;FMTTYPE=image/jpeg:https://krtnradio.com/wp/wp-content/uploads/2014/11/Maxwell-bears.jpg
END:VEVENT
END:VCALENDAR