BEGIN:VCALENDAR
VERSION:2.0
PRODID:-//KRTN Enchanted Air Radio - ECPv5.16.4.1//NONSGML v1.0//EN
CALSCALE:GREGORIAN
METHOD:PUBLISH
X-WR-CALNAME:KRTN Enchanted Air Radio
X-ORIGINAL-URL:https://krtnradio.com/wp
X-WR-CALDESC:Events for KRTN Enchanted Air Radio
BEGIN:VTIMEZONE
TZID:America/Denver
BEGIN:DAYLIGHT
TZOFFSETFROM:-0700
TZOFFSETTO:-0600
TZNAME:MDT
DTSTART:20200308T090000
END:DAYLIGHT
BEGIN:STANDARD
TZOFFSETFROM:-0600
TZOFFSETTO:-0700
TZNAME:MST
DTSTART:20201101T080000
END:STANDARD
END:VTIMEZONE
BEGIN:VEVENT
DTSTART;TZID=America/Denver:20200324T130000
DTEND;TZID=America/Denver:20200324T150000
DTSTAMP:20260425T183345
CREATED:20200227T171248Z
LAST-MODIFIED:20200324T182217Z
UID:60564-1585054800-1585062000@krtnradio.com
SUMMARY:Canceled: Make & Take Tuesdays ~ Patchwork Phoenix
DESCRIPTION:Join us every Tuesday at 1:00 PM – 3:00 PM to learn a variety of techniques while making a new block each week.\nPut the blocks together to make table runners\, wall hangings\, or a sampler quilt. \n$10 per week includes all fabrics and batting to finish the project of your choice. \nSpring into Spring\nMarch 2020\nFabric & Batting Sale!\nThe more you buy\, the more you save!\nBuy 1 yard of one fabric get 10% off\nBuy 2 yards of one fabric get 20% off\nBuy 3 yards of one fabric get 30% off\nBuy 4 yards of one fabric get 40% off\nBuy 3 yards of Hobbs 80/20 Black get 30% off\nNotions Clearance – All notions 30% Off\nFree Clearance Basket. Pick one item per visit\nSales ends March 31\, 2020
URL:https://krtnradio.com/wp/event/make-take-tuesdays-patchwork-phoenix-4/
LOCATION:Patchwork Phoenix\, 228 South 1st Street\, Raton\, NM\, 87740\, United States
CATEGORIES:Meetings
ATTACH;FMTTYPE=image/jpeg:https://krtnradio.com/wp/wp-content/uploads/2018/08/patchworkphoenix.jpg
END:VEVENT
END:VCALENDAR