BEGIN:VCALENDAR
VERSION:2.0
PRODID:-//KRTN Enchanted Air Radio - ECPv5.16.4.1//NONSGML v1.0//EN
CALSCALE:GREGORIAN
METHOD:PUBLISH
X-WR-CALNAME:KRTN Enchanted Air Radio
X-ORIGINAL-URL:https://krtnradio.com/wp
X-WR-CALDESC:Events for KRTN Enchanted Air Radio
BEGIN:VTIMEZONE
TZID:America/Denver
BEGIN:DAYLIGHT
TZOFFSETFROM:-0700
TZOFFSETTO:-0600
TZNAME:MDT
DTSTART:20230312T090000
END:DAYLIGHT
BEGIN:STANDARD
TZOFFSETFROM:-0600
TZOFFSETTO:-0700
TZNAME:MST
DTSTART:20231105T080000
END:STANDARD
END:VTIMEZONE
BEGIN:VEVENT
DTSTART;TZID=America/Denver:20230215T190000
DTEND;TZID=America/Denver:20230215T200000
DTSTAMP:20260422T224108
CREATED:20230111T185432Z
LAST-MODIFIED:20230111T185432Z
UID:81623-1676487600-1676491200@krtnradio.com
SUMMARY:MAIN STREET LIVE Community Group Voice Class! Teens to Adults! All levels
DESCRIPTION:Community Group Voice Class! Teens to Adults! All levels $80\nWEDNESDAYS 7 – 7:55pm\nThis is a vocal and breath technique class. We will dust off the ole vocal chords and redevelop the muscle through vocalists\, breathing exercises\, body awareness\, practical and applicable vocal production. We will sing a piece each week and students can record the session in order to practice at home.\nInstructor: Alison England
URL:https://krtnradio.com/wp/event/main-street-live-community-group-voice-class-teens-to-adults-all-levels-5/
CATEGORIES:Area Events
ATTACH;FMTTYPE=image/png:https://krtnradio.com/wp/wp-content/uploads/2023/01/MainstreetLiveTrinidadCo.png
END:VEVENT
END:VCALENDAR