BEGIN:VCALENDAR
VERSION:2.0
PRODID:-//KRTN Enchanted Air Radio - ECPv5.16.4.1//NONSGML v1.0//EN
CALSCALE:GREGORIAN
METHOD:PUBLISH
X-WR-CALNAME:KRTN Enchanted Air Radio
X-ORIGINAL-URL:https://krtnradio.com/wp
X-WR-CALDESC:Events for KRTN Enchanted Air Radio
BEGIN:VTIMEZONE
TZID:America/Denver
BEGIN:DAYLIGHT
TZOFFSETFROM:-0700
TZOFFSETTO:-0600
TZNAME:MDT
DTSTART:20230312T090000
END:DAYLIGHT
BEGIN:STANDARD
TZOFFSETFROM:-0600
TZOFFSETTO:-0700
TZNAME:MST
DTSTART:20231105T080000
END:STANDARD
END:VTIMEZONE
BEGIN:VEVENT
DTSTART;TZID=America/Denver:20230121T183000
DTEND;TZID=America/Denver:20230121T183000
DTSTAMP:20260425T055224
CREATED:20230111T175013Z
LAST-MODIFIED:20230111T175013Z
UID:81547-1674325800-1674325800@krtnradio.com
SUMMARY:Main Street Live Cabaret and Kickoff 2023
DESCRIPTION:
URL:https://krtnradio.com/wp/event/main-street-live-cabaret-and-kickoff-2023/
CATEGORIES:Area Events
ATTACH;FMTTYPE=image/png:https://krtnradio.com/wp/wp-content/uploads/2023/01/Screenshot-2023-01-11T104531.194.png
END:VEVENT
END:VCALENDAR