BEGIN:VCALENDAR
VERSION:2.0
PRODID:-//KRTN Enchanted Air Radio - ECPv5.16.4.1//NONSGML v1.0//EN
CALSCALE:GREGORIAN
METHOD:PUBLISH
X-WR-CALNAME:KRTN Enchanted Air Radio
X-ORIGINAL-URL:https://krtnradio.com/wp
X-WR-CALDESC:Events for KRTN Enchanted Air Radio
BEGIN:VTIMEZONE
TZID:America/Denver
BEGIN:DAYLIGHT
TZOFFSETFROM:-0700
TZOFFSETTO:-0600
TZNAME:MDT
DTSTART:20230312T090000
END:DAYLIGHT
BEGIN:STANDARD
TZOFFSETFROM:-0600
TZOFFSETTO:-0700
TZNAME:MST
DTSTART:20231105T080000
END:STANDARD
END:VTIMEZONE
BEGIN:VEVENT
DTSTART;TZID=America/Denver:20230218T110000
DTEND;TZID=America/Denver:20230218T113000
DTSTAMP:20260423T033319
CREATED:20230111T180442Z
LAST-MODIFIED:20230111T180442Z
UID:81560-1676718000-1676719800@krtnradio.com
SUMMARY:MAIN STREET LIVE Acting for Tots Ages 4-6
DESCRIPTION:Acting for Tots Ages 4-6 $75\nSATURDAYS 11 – 11:45am\nLITTLE ACTORS come to have fun creating characters and telling stories! Mommies can\nstay in the room. FUN for our little stars!\nInstructor: Virginia Jimenez
URL:https://krtnradio.com/wp/event/main-street-live-acting-for-tots-ages-4-6-5/
CATEGORIES:Area Events
ATTACH;FMTTYPE=image/png:https://krtnradio.com/wp/wp-content/uploads/2023/01/MainstreetLiveTrinidadCo.png
END:VEVENT
END:VCALENDAR