BEGIN:VCALENDAR
VERSION:2.0
PRODID:-//KRTN Enchanted Air Radio - ECPv5.16.4.1//NONSGML v1.0//EN
CALSCALE:GREGORIAN
METHOD:PUBLISH
X-WR-CALNAME:KRTN Enchanted Air Radio
X-ORIGINAL-URL:https://krtnradio.com/wp
X-WR-CALDESC:Events for KRTN Enchanted Air Radio
BEGIN:VTIMEZONE
TZID:America/Denver
BEGIN:DAYLIGHT
TZOFFSETFROM:-0700
TZOFFSETTO:-0600
TZNAME:MDT
DTSTART:20200308T090000
END:DAYLIGHT
BEGIN:STANDARD
TZOFFSETFROM:-0600
TZOFFSETTO:-0700
TZNAME:MST
DTSTART:20201101T080000
END:STANDARD
END:VTIMEZONE
BEGIN:VEVENT
DTSTART;VALUE=DATE:20200615
DTEND;VALUE=DATE:20200616
DTSTAMP:20260425T093252
CREATED:20200416T230158Z
LAST-MODIFIED:20200416T230158Z
UID:62288-1592179200-1592265599@krtnradio.com
SUMMARY:Leather Holster Making ~The Heritage School at Trinidad State
DESCRIPTION:Students will learn to construct quality gun leather using methods and techniques requiring a minimum number of leather tools. The cost is $350 for 40 hours of instruction. Students will provide their own tools. Students will go as a group to the TSJC bookstore to pay for the leather. For complete course information\, contact Donna Haddow at 719-846-5724 or donna.haddow@trinidadstate.edu \ntrinidadstate.edu/heritage
URL:https://krtnradio.com/wp/event/leather-holster-making-the-heritage-school-at-trinidad-state/
LOCATION:Heritage School at TSJC\, 600 Prospect\, Trinidad\, CO\, 81082
CATEGORIES:Meetings
ATTACH;FMTTYPE=image/jpeg:https://krtnradio.com/wp/wp-content/uploads/2020/04/78171635_1176049762585724_6116381609617784832_o.jpg
END:VEVENT
END:VCALENDAR