BEGIN:VCALENDAR
VERSION:2.0
PRODID:-//KRTN Enchanted Air Radio - ECPv5.16.4.1//NONSGML v1.0//EN
CALSCALE:GREGORIAN
METHOD:PUBLISH
X-WR-CALNAME:KRTN Enchanted Air Radio
X-ORIGINAL-URL:https://krtnradio.com/wp
X-WR-CALDESC:Events for KRTN Enchanted Air Radio
BEGIN:VTIMEZONE
TZID:America/Denver
BEGIN:DAYLIGHT
TZOFFSETFROM:-0700
TZOFFSETTO:-0600
TZNAME:MDT
DTSTART:20200308T090000
END:DAYLIGHT
BEGIN:STANDARD
TZOFFSETFROM:-0600
TZOFFSETTO:-0700
TZNAME:MST
DTSTART:20201101T080000
END:STANDARD
END:VTIMEZONE
BEGIN:VEVENT
DTSTART;TZID=America/Denver:20200801T120000
DTEND;TZID=America/Denver:20200801T140000
DTSTAMP:20260425T042947
CREATED:20200710T175906Z
LAST-MODIFIED:20200721T181834Z
UID:64455-1596283200-1596290400@krtnradio.com
SUMMARY:Las Animas County Fair Livestock Market Sale
DESCRIPTION:Please come and support the youth of Las Animas County at the Livestock Market Sale. \nRegistration starts at 12:00 PM and the sale begins at 2:00 PM in the Outdoor Pavilion at the Las Animas County Fairgrounds!
URL:https://krtnradio.com/wp/event/las-animas-county-fair-livestock-market-sale/
LOCATION:Las Animas County Fairgrounds Event Center\, 2200 N. Linden Ave\, Trinidad\, CO\, 81082
CATEGORIES:Area Events
ATTACH;FMTTYPE=image/jpeg:https://krtnradio.com/wp/wp-content/uploads/2020/07/Las-Animas-County-Fair-Livestock-Sale-2020.jpg
END:VEVENT
END:VCALENDAR