BEGIN:VCALENDAR
VERSION:2.0
PRODID:-//KRTN Enchanted Air Radio - ECPv5.16.4.1//NONSGML v1.0//EN
CALSCALE:GREGORIAN
METHOD:PUBLISH
X-WR-CALNAME:KRTN Enchanted Air Radio
X-ORIGINAL-URL:https://krtnradio.com/wp
X-WR-CALDESC:Events for KRTN Enchanted Air Radio
BEGIN:VTIMEZONE
TZID:America/Denver
BEGIN:DAYLIGHT
TZOFFSETFROM:-0700
TZOFFSETTO:-0600
TZNAME:MDT
DTSTART:20250309T090000
END:DAYLIGHT
BEGIN:STANDARD
TZOFFSETFROM:-0600
TZOFFSETTO:-0700
TZNAME:MST
DTSTART:20251102T080000
END:STANDARD
END:VTIMEZONE
BEGIN:VEVENT
DTSTART;VALUE=DATE:20250723
DTEND;VALUE=DATE:20250724
DTSTAMP:20260424T003611
CREATED:20250618T191146Z
LAST-MODIFIED:20250618T191146Z
UID:96249-1753228800-1753315199@krtnradio.com
SUMMARY:Las Animas County Fair July 22-26\, 2025
DESCRIPTION:
URL:https://krtnradio.com/wp/event/las-animas-county-fair-july-22-26-2025/
CATEGORIES:Area Events
END:VEVENT
END:VCALENDAR