BEGIN:VCALENDAR
VERSION:2.0
PRODID:-//KRTN Enchanted Air Radio - ECPv5.16.4.1//NONSGML v1.0//EN
CALSCALE:GREGORIAN
METHOD:PUBLISH
X-WR-CALNAME:KRTN Enchanted Air Radio
X-ORIGINAL-URL:https://krtnradio.com/wp
X-WR-CALDESC:Events for KRTN Enchanted Air Radio
BEGIN:VTIMEZONE
TZID:America/Denver
BEGIN:DAYLIGHT
TZOFFSETFROM:-0700
TZOFFSETTO:-0600
TZNAME:MDT
DTSTART:20250309T090000
END:DAYLIGHT
BEGIN:STANDARD
TZOFFSETFROM:-0600
TZOFFSETTO:-0700
TZNAME:MST
DTSTART:20251102T080000
END:STANDARD
END:VTIMEZONE
BEGIN:VEVENT
DTSTART;TZID=America/Denver:20250426T140000
DTEND;TZID=America/Denver:20250426T140000
DTSTAMP:20260424T064908
CREATED:20250319T171408Z
LAST-MODIFIED:20250319T171408Z
UID:94786-1745676000-1745676000@krtnradio.com
SUMMARY:Las Animas Annual Crawfish Boil Fundraiser
DESCRIPTION:Event by ABC Disability Support Group\n\n\n\n\n\n\n\n\n\n\n\nLas Animas County Fairgrounds\n\n\n\n\n\n\n\n\n\n\n\nPublic  · Anyone on or off Facebook\n\n\n\n\n\n\n\nIt is a return of our Annual Crawfish Boil Fundraiser at a new location! same amazing Cajun food that our community has come to love for an amazing cause! We are now accepting preorders on Crawfish\, Gator and Shrimp!
URL:https://krtnradio.com/wp/event/las-animas-annual-crawfish-boil-fundraiser/
CATEGORIES:Area Events
END:VEVENT
END:VCALENDAR