BEGIN:VCALENDAR
VERSION:2.0
PRODID:-//KRTN Enchanted Air Radio - ECPv5.16.4.1//NONSGML v1.0//EN
CALSCALE:GREGORIAN
METHOD:PUBLISH
X-WR-CALNAME:KRTN Enchanted Air Radio
X-ORIGINAL-URL:https://krtnradio.com/wp
X-WR-CALDESC:Events for KRTN Enchanted Air Radio
BEGIN:VTIMEZONE
TZID:America/Denver
BEGIN:DAYLIGHT
TZOFFSETFROM:-0700
TZOFFSETTO:-0600
TZNAME:MDT
DTSTART:20200308T090000
END:DAYLIGHT
BEGIN:STANDARD
TZOFFSETFROM:-0600
TZOFFSETTO:-0700
TZNAME:MST
DTSTART:20201101T080000
END:STANDARD
END:VTIMEZONE
BEGIN:VEVENT
DTSTART;TZID=America/Denver:20200224T180000
DTEND;TZID=America/Denver:20200224T180000
DTSTAMP:20260425T094307
CREATED:20200203T230839Z
LAST-MODIFIED:20200203T230839Z
UID:59602-1582567200-1582567200@krtnradio.com
SUMMARY:Kundalini Yoga ~ Infinite Potential Raton Yoga
DESCRIPTION:Well\, it seems as though Jan 2020 brought to us some ‘everyone hold on tight’ kind of energy. \n“February is a time to give situations time and space to unfold\, allowing the hidden details to slowly reveal themselves.” ~ Nam Hari Kaur \nIt is a perfect time for you to align yourself with your boundaries and to transform that feeling of longing-to-belong into Divine Devotion. \n\nHere is our February Schedule which is filled with a variety of opportunities to help you to do that. \nWe look forward to seeing you soon!
URL:https://krtnradio.com/wp/event/kundalini-yoga-infinite-potential-raton-yoga-12/
LOCATION:Infinite Potential Raton Yoga\, 115 S 2nd\, Raton\, NM\, 87740
CATEGORIES:Meetings
ATTACH;FMTTYPE=image/jpeg:https://krtnradio.com/wp/wp-content/uploads/2019/03/Infinite-Potential-Raton.jpg
END:VEVENT
END:VCALENDAR