BEGIN:VCALENDAR
VERSION:2.0
PRODID:-//KRTN Enchanted Air Radio - ECPv5.16.4.1//NONSGML v1.0//EN
CALSCALE:GREGORIAN
METHOD:PUBLISH
X-WR-CALNAME:KRTN Enchanted Air Radio
X-ORIGINAL-URL:https://krtnradio.com/wp
X-WR-CALDESC:Events for KRTN Enchanted Air Radio
BEGIN:VTIMEZONE
TZID:America/Denver
BEGIN:DAYLIGHT
TZOFFSETFROM:-0700
TZOFFSETTO:-0600
TZNAME:MDT
DTSTART:20240310T090000
END:DAYLIGHT
BEGIN:STANDARD
TZOFFSETFROM:-0600
TZOFFSETTO:-0700
TZNAME:MST
DTSTART:20241103T080000
END:STANDARD
END:VTIMEZONE
BEGIN:VEVENT
DTSTART;TZID=America/Denver:20240203T190000
DTEND;TZID=America/Denver:20240203T190000
DTSTAMP:20260424T102243
CREATED:20230914T195545Z
LAST-MODIFIED:20230914T195545Z
UID:86141-1706986800-1706986800@krtnradio.com
SUMMARY:Kiss Me Once
DESCRIPTION:Kiss Me Once\nRaton Arts & Humanities Council\, The Historic Shuler Theater\n145 South 1st Street\, 87740 Raton\, NM\nDate: February 3\, 2024 @ 7:00pm\nReserved Seating.\nSingle Ticket Prices: Adult $20/ Senior $15/ Student $10\nSeason Ticket Prices: Adult $90/ Senior $70/ Student $50\nmore
URL:https://krtnradio.com/wp/event/kiss-me-once/
CATEGORIES:Area Events
ATTACH;FMTTYPE=image/jpeg:https://krtnradio.com/wp/wp-content/uploads/2023/09/kiss-me-once-474-279-1382.jpg
END:VEVENT
END:VCALENDAR