BEGIN:VCALENDAR
VERSION:2.0
PRODID:-//KRTN Enchanted Air Radio - ECPv5.16.4.1//NONSGML v1.0//EN
CALSCALE:GREGORIAN
METHOD:PUBLISH
X-WR-CALNAME:KRTN Enchanted Air Radio
X-ORIGINAL-URL:https://krtnradio.com/wp
X-WR-CALDESC:Events for KRTN Enchanted Air Radio
BEGIN:VTIMEZONE
TZID:America/Denver
BEGIN:DAYLIGHT
TZOFFSETFROM:-0700
TZOFFSETTO:-0600
TZNAME:MDT
DTSTART:20200308T090000
END:DAYLIGHT
BEGIN:STANDARD
TZOFFSETFROM:-0600
TZOFFSETTO:-0700
TZNAME:MST
DTSTART:20201101T080000
END:STANDARD
END:VTIMEZONE
BEGIN:VEVENT
DTSTART;TZID=America/Denver:20201009T100000
DTEND;TZID=America/Denver:20201009T110000
DTSTAMP:20260424T070123
CREATED:20200914T204906Z
LAST-MODIFIED:20200914T204906Z
UID:67051-1602237600-1602241200@krtnradio.com
SUMMARY:Kid’s Craft Hour (Virtual) Mt. Carmel Wellness & Community Center
DESCRIPTION:Kid’s Craft Hour\nCreative time for busy little hands. Join Sophia and Hazen to make easy crafts designs for kids.\nFridays at 10:00 am\nSeptember 18 – November 6\, 2020\nClick the link below to register:\nhttps://us02web.zoom.us/meeting/register/tZUrf–vqDMqHNbjx1y-xIA7ElD_jBciiWHf
URL:https://krtnradio.com/wp/event/kids-craft-hour-virtual-mt-carmel-wellness-community-center-4/
CATEGORIES:Meetings
ATTACH;FMTTYPE=image/jpeg:https://krtnradio.com/wp/wp-content/uploads/2020/09/kids-craft-hour-mt-carmel.jpg
END:VEVENT
END:VCALENDAR