BEGIN:VCALENDAR
VERSION:2.0
PRODID:-//KRTN Enchanted Air Radio - ECPv5.16.4.1//NONSGML v1.0//EN
CALSCALE:GREGORIAN
METHOD:PUBLISH
X-WR-CALNAME:KRTN Enchanted Air Radio
X-ORIGINAL-URL:https://krtnradio.com/wp
X-WR-CALDESC:Events for KRTN Enchanted Air Radio
BEGIN:VTIMEZONE
TZID:America/Denver
BEGIN:DAYLIGHT
TZOFFSETFROM:-0700
TZOFFSETTO:-0600
TZNAME:MDT
DTSTART:20200308T090000
END:DAYLIGHT
BEGIN:STANDARD
TZOFFSETFROM:-0600
TZOFFSETTO:-0700
TZNAME:MST
DTSTART:20201101T080000
END:STANDARD
END:VTIMEZONE
BEGIN:VEVENT
DTSTART;TZID=America/Denver:20200618T130000
DTEND;TZID=America/Denver:20200618T140000
DTSTAMP:20260425T094332
CREATED:20200602T211756Z
LAST-MODIFIED:20200602T211756Z
UID:63362-1592485200-1592488800@krtnradio.com
SUMMARY:Kid’s Craft Hour ~ Mt. Carmel Wellness & Community Center
DESCRIPTION:Creative time for busy little hands. Kids of all ages welcome! \nRegister your children for Kid’s Craft Hour at the following link:\nhttps://us02web.zoom.us/meeting/register/upYrc-mhpz0iHtOiMgy74gzYbGsAc9_Q4xO6 \nYou will then receive a Zoom Meeting link to join.
URL:https://krtnradio.com/wp/event/kids-craft-hour-mt-carmel-wellness-community-center-12/
CATEGORIES:Meetings
ATTACH;FMTTYPE=image/png:https://krtnradio.com/wp/wp-content/uploads/2017/07/crafts.png
END:VEVENT
END:VCALENDAR