BEGIN:VCALENDAR
VERSION:2.0
PRODID:-//KRTN Enchanted Air Radio - ECPv5.16.4.1//NONSGML v1.0//EN
CALSCALE:GREGORIAN
METHOD:PUBLISH
X-WR-CALNAME:KRTN Enchanted Air Radio
X-ORIGINAL-URL:https://krtnradio.com/wp
X-WR-CALDESC:Events for KRTN Enchanted Air Radio
BEGIN:VTIMEZONE
TZID:America/Denver
BEGIN:DAYLIGHT
TZOFFSETFROM:-0700
TZOFFSETTO:-0600
TZNAME:MDT
DTSTART:20200308T090000
END:DAYLIGHT
BEGIN:STANDARD
TZOFFSETFROM:-0600
TZOFFSETTO:-0700
TZNAME:MST
DTSTART:20201101T080000
END:STANDARD
END:VTIMEZONE
BEGIN:VEVENT
DTSTART;TZID=America/Denver:20200914T190000
DTEND;TZID=America/Denver:20200914T190000
DTSTAMP:20260424T152324
CREATED:20200908T230739Z
LAST-MODIFIED:20200908T230739Z
UID:66741-1600110000-1600110000@krtnradio.com
SUMMARY:Jewish Messianic Heresy and the Right to Privacy: Louis Brandeis and the Sabbatian Origins of an American Legal Doctrine
DESCRIPTION:Dear library patrons     —We are pleased to announce another lecture in this fascinating series from CU Boulder. The title of the lecture is Jewish Messianic Heresy and the Right to Privacy: Louis Brandeis and the Sabbatian Origins of an American Legal Doctrine.” The lecture is scheduled for the evening of Monday\, September 14th\, at 7 o’clock.\n\nYou must register to attend the lecture. Just click the link below\, and fill out the form. Once you register\, Zoom Meeting will provide details on how to join this webinar.\n\nhttps://cuboulder.zoom.us/webinar/register/WN_NcREoH7nQSeXvERcwvnZng\n\nThanks for your time and attention     —Tom\n\n\n\n\nTom Potter \nInterim Director and \nTeen/Adult Services Specialist \nTrinidad Carnegie Public Library \n719-846-6841 \ntom.potter@trinidad.co.gov
URL:https://krtnradio.com/wp/event/jewish-messianic-heresy-and-the-right-to-privacy-louis-brandeis-and-the-sabbatian-origins-of-an-american-legal-doctrine/
CATEGORIES:Area Events
ATTACH;FMTTYPE=image/jpeg:https://krtnradio.com/wp/wp-content/uploads/2020/09/lecture-clip-art.jpg
END:VEVENT
END:VCALENDAR