BEGIN:VCALENDAR
VERSION:2.0
PRODID:-//KRTN Enchanted Air Radio - ECPv5.16.4.1//NONSGML v1.0//EN
CALSCALE:GREGORIAN
METHOD:PUBLISH
X-WR-CALNAME:KRTN Enchanted Air Radio
X-ORIGINAL-URL:https://krtnradio.com/wp
X-WR-CALDESC:Events for KRTN Enchanted Air Radio
BEGIN:VTIMEZONE
TZID:America/Denver
BEGIN:DAYLIGHT
TZOFFSETFROM:-0700
TZOFFSETTO:-0600
TZNAME:MDT
DTSTART:20250309T090000
END:DAYLIGHT
BEGIN:STANDARD
TZOFFSETFROM:-0600
TZOFFSETTO:-0700
TZNAME:MST
DTSTART:20251102T080000
END:STANDARD
END:VTIMEZONE
BEGIN:VEVENT
DTSTART;TZID=America/Denver:20250510T110000
DTEND;TZID=America/Denver:20250510T130000
DTSTAMP:20260424T070235
CREATED:20250506T195319Z
LAST-MODIFIED:20250506T195351Z
UID:95735-1746874800-1746882000@krtnradio.com
SUMMARY:Isabel Castillo Performing Arts and Events Center Feeding Time at The Puppet Zoo
DESCRIPTION:
URL:https://krtnradio.com/wp/event/isabel-castillo-performing-arts-and-events-center-feeding-time-at-the-puppet-zoo/
CATEGORIES:Area Events
END:VEVENT
END:VCALENDAR