BEGIN:VCALENDAR
VERSION:2.0
PRODID:-//KRTN Enchanted Air Radio - ECPv5.16.4.1//NONSGML v1.0//EN
CALSCALE:GREGORIAN
METHOD:PUBLISH
X-WR-CALNAME:KRTN Enchanted Air Radio
X-ORIGINAL-URL:https://krtnradio.com/wp
X-WR-CALDESC:Events for KRTN Enchanted Air Radio
BEGIN:VTIMEZONE
TZID:America/Denver
BEGIN:DAYLIGHT
TZOFFSETFROM:-0700
TZOFFSETTO:-0600
TZNAME:MDT
DTSTART:20200308T090000
END:DAYLIGHT
BEGIN:STANDARD
TZOFFSETFROM:-0600
TZOFFSETTO:-0700
TZNAME:MST
DTSTART:20201101T080000
END:STANDARD
END:VTIMEZONE
BEGIN:VEVENT
DTSTART;TZID=America/Denver:20200704T100000
DTEND;TZID=America/Denver:20200704T113000
DTSTAMP:20260425T094232
CREATED:20200625T161409Z
LAST-MODIFIED:20200625T161409Z
UID:63980-1593856800-1593862200@krtnradio.com
SUMMARY:Independence Day Flag Waving ~ Hosted by Las Animas County Republicans
DESCRIPTION:Saturday\, July 4\, 2020 at 10 AM – 11:30 AM \nNext Week · 61–88°F Mostly Sunny \nExit 23/Hoehne Rd/N \nBring a flag and join us\, as we wave “Old Glory” in celebration of our Independence! 🇺🇸🇺🇸🇺🇸
URL:https://krtnradio.com/wp/event/independence-day-flag-waving-hosted-by-las-animas-county-republicans/
CATEGORIES:Area Events
ATTACH;FMTTYPE=image/jpeg:https://krtnradio.com/wp/wp-content/uploads/2018/07/obit-flag.jpg
END:VEVENT
END:VCALENDAR