BEGIN:VCALENDAR
VERSION:2.0
PRODID:-//KRTN Enchanted Air Radio - ECPv5.16.4.1//NONSGML v1.0//EN
CALSCALE:GREGORIAN
METHOD:PUBLISH
X-WR-CALNAME:KRTN Enchanted Air Radio
X-ORIGINAL-URL:https://krtnradio.com/wp
X-WR-CALDESC:Events for KRTN Enchanted Air Radio
BEGIN:VTIMEZONE
TZID:America/Denver
BEGIN:DAYLIGHT
TZOFFSETFROM:-0700
TZOFFSETTO:-0600
TZNAME:MDT
DTSTART:20200308T090000
END:DAYLIGHT
BEGIN:STANDARD
TZOFFSETFROM:-0600
TZOFFSETTO:-0700
TZNAME:MST
DTSTART:20201101T080000
END:STANDARD
END:VTIMEZONE
BEGIN:VEVENT
DTSTART;TZID=America/Denver:20201031T120000
DTEND;TZID=America/Denver:20201031T130000
DTSTAMP:20260424T051216
CREATED:20200612T200333Z
LAST-MODIFIED:20200612T200333Z
UID:63725-1604145600-1604149200@krtnradio.com
SUMMARY:Hungry Hearts Lunch
DESCRIPTION:Hungry Hearts will resume serving lunch every Saturday at St. Vincent de Paul thrift store location\, 401 S. 4th St. \nFree lunches will be served on a drive-through\, a take-out only basis from 12:00 noon until 1:00 PM (while supplies last\, first come-first served). \nWalk-up guests will be served as well. \nWe ask that all guests\, whether drive up or walk up\, please wear masks. \nAs always\, lunches are free and anyone is welcome. \nDrive-through guests should enter from the north end of the Thrift store parking lot.
URL:https://krtnradio.com/wp/event/hungry-hearts-lunch-66/
LOCATION:St Vincent\, 104 Buena Vista St\, Raton\, 87740\, United States
CATEGORIES:Meetings
ATTACH;FMTTYPE=image/png:https://krtnradio.com/wp/wp-content/uploads/2018/09/hungryhearts.png
END:VEVENT
END:VCALENDAR