BEGIN:VCALENDAR
VERSION:2.0
PRODID:-//KRTN Enchanted Air Radio - ECPv5.16.4.1//NONSGML v1.0//EN
CALSCALE:GREGORIAN
METHOD:PUBLISH
X-WR-CALNAME:KRTN Enchanted Air Radio
X-ORIGINAL-URL:https://krtnradio.com/wp
X-WR-CALDESC:Events for KRTN Enchanted Air Radio
BEGIN:VTIMEZONE
TZID:America/Denver
BEGIN:DAYLIGHT
TZOFFSETFROM:-0700
TZOFFSETTO:-0600
TZNAME:MDT
DTSTART:20200308T090000
END:DAYLIGHT
BEGIN:STANDARD
TZOFFSETFROM:-0600
TZOFFSETTO:-0700
TZNAME:MST
DTSTART:20201101T080000
END:STANDARD
END:VTIMEZONE
BEGIN:VEVENT
DTSTART;TZID=America/Denver:20200328T120000
DTEND;TZID=America/Denver:20200328T130000
DTSTAMP:20260425T165825
CREATED:20191231T181922Z
LAST-MODIFIED:20200313T145252Z
UID:57671-1585396800-1585400400@krtnradio.com
SUMMARY:Cancelled ~ Hungry Hearts Lunch
DESCRIPTION:Serving Free Lunch every Saturday\nNoon until 1:00 PM\n401 S. 4th St
URL:https://krtnradio.com/wp/event/hungry-hearts-lunch-43/
LOCATION:St. Patrick / St. Joseph Thrift Store\, 401 S. 4th St\, Raton\, NM\, 87740
CATEGORIES:Meetings
ATTACH;FMTTYPE=image/png:https://krtnradio.com/wp/wp-content/uploads/2018/09/hungryhearts.png
END:VEVENT
END:VCALENDAR