BEGIN:VCALENDAR
VERSION:2.0
PRODID:-//KRTN Enchanted Air Radio - ECPv5.16.4.1//NONSGML v1.0//EN
CALSCALE:GREGORIAN
METHOD:PUBLISH
X-WR-CALNAME:KRTN Enchanted Air Radio
X-ORIGINAL-URL:https://krtnradio.com/wp
X-WR-CALDESC:Events for KRTN Enchanted Air Radio
BEGIN:VTIMEZONE
TZID:America/Denver
BEGIN:DAYLIGHT
TZOFFSETFROM:-0700
TZOFFSETTO:-0600
TZNAME:MDT
DTSTART:20200308T090000
END:DAYLIGHT
BEGIN:STANDARD
TZOFFSETFROM:-0600
TZOFFSETTO:-0700
TZNAME:MST
DTSTART:20201101T080000
END:STANDARD
END:VTIMEZONE
BEGIN:VEVENT
DTSTART;TZID=America/Denver:20201028T113000
DTEND;TZID=America/Denver:20201028T130000
DTSTAMP:20260424T051309
CREATED:20200210T221105Z
LAST-MODIFIED:20200210T221105Z
UID:59919-1603884600-1603890000@krtnradio.com
SUMMARY:Hunger Pantry Food Distribution
DESCRIPTION:Every other Wednesday \nFirst Presbyterian Church \n300 S 3rd St\n11:30 am – 1:00 pm
URL:https://krtnradio.com/wp/event/hunger-pantry-food-distribution-22/
LOCATION:First Presbyterian Church\, 300 S 3rd St\, Raton\, NM\, 87740\, United States
CATEGORIES:Meetings
ATTACH;FMTTYPE=image/jpeg:https://krtnradio.com/wp/wp-content/uploads/2020/02/hunger-clipart-Hunger-Knows-No-Season-Hunger-Pantry-Logo.jpg
END:VEVENT
END:VCALENDAR