BEGIN:VCALENDAR
VERSION:2.0
PRODID:-//KRTN Enchanted Air Radio - ECPv5.16.4.1//NONSGML v1.0//EN
CALSCALE:GREGORIAN
METHOD:PUBLISH
X-WR-CALNAME:KRTN Enchanted Air Radio
X-ORIGINAL-URL:https://krtnradio.com/wp
X-WR-CALDESC:Events for KRTN Enchanted Air Radio
BEGIN:VTIMEZONE
TZID:America/Denver
BEGIN:DAYLIGHT
TZOFFSETFROM:-0700
TZOFFSETTO:-0600
TZNAME:MDT
DTSTART:20230312T090000
END:DAYLIGHT
BEGIN:STANDARD
TZOFFSETFROM:-0600
TZOFFSETTO:-0700
TZNAME:MST
DTSTART:20231105T080000
END:STANDARD
END:VTIMEZONE
BEGIN:VEVENT
DTSTART;TZID=America/Denver:20231202T080000
DTEND;TZID=America/Denver:20231202T140000
DTSTAMP:20260425T152832
CREATED:20231004T190133Z
LAST-MODIFIED:20231004T190326Z
UID:86499-1701504000-1701525600@krtnradio.com
SUMMARY:Holy Trinity Academy Christmas Bazaar
DESCRIPTION:
URL:https://krtnradio.com/wp/event/holy-trinity-academy-christmas-bazaar/
CATEGORIES:Area Events
END:VEVENT
END:VCALENDAR