BEGIN:VCALENDAR
VERSION:2.0
PRODID:-//KRTN Enchanted Air Radio - ECPv5.16.4.1//NONSGML v1.0//EN
CALSCALE:GREGORIAN
METHOD:PUBLISH
X-WR-CALNAME:KRTN Enchanted Air Radio
X-ORIGINAL-URL:https://krtnradio.com/wp
X-WR-CALDESC:Events for KRTN Enchanted Air Radio
BEGIN:VTIMEZONE
TZID:America/Denver
BEGIN:DAYLIGHT
TZOFFSETFROM:-0700
TZOFFSETTO:-0600
TZNAME:MDT
DTSTART:20160313T090000
END:DAYLIGHT
BEGIN:STANDARD
TZOFFSETFROM:-0600
TZOFFSETTO:-0700
TZNAME:MST
DTSTART:20161106T080000
END:STANDARD
END:VTIMEZONE
BEGIN:VEVENT
DTSTART;VALUE=DATE:20161211
DTEND;VALUE=DATE:20161212
DTSTAMP:20260425T144034
CREATED:20161206T225355Z
LAST-MODIFIED:20161206T225355Z
UID:31504-1481414400-1481500799@krtnradio.com
SUMMARY:Holiday Open House at The Mandala Center
DESCRIPTION:The Mandala Center invites the public to a Holiday Open House Sunday\, December 11th from 2 pm until 6 pm.\n\n\nTours available from 2-4\n\n\nCaroling from 4-5\n\n\nPotluck from 5-6\n\n\n575-278-3002\nwww.mandalacenter.org
URL:https://krtnradio.com/wp/event/holiday-open-house-at-the-mandala-center/
LOCATION:Mandala Center\, 96 Mandala Rd @HWY 87\, Des Moines\, NM\, 88418\, United States
CATEGORIES:Area Events
ATTACH;FMTTYPE=image/jpeg:https://krtnradio.com/wp/wp-content/uploads/2016/11/holiday-open-house-retro.jpg
END:VEVENT
END:VCALENDAR