BEGIN:VCALENDAR
VERSION:2.0
PRODID:-//KRTN Enchanted Air Radio - ECPv5.16.4.1//NONSGML v1.0//EN
CALSCALE:GREGORIAN
METHOD:PUBLISH
X-WR-CALNAME:KRTN Enchanted Air Radio
X-ORIGINAL-URL:https://krtnradio.com/wp
X-WR-CALDESC:Events for KRTN Enchanted Air Radio
BEGIN:VTIMEZONE
TZID:America/Denver
BEGIN:DAYLIGHT
TZOFFSETFROM:-0700
TZOFFSETTO:-0600
TZNAME:MDT
DTSTART:20200308T090000
END:DAYLIGHT
BEGIN:STANDARD
TZOFFSETFROM:-0600
TZOFFSETTO:-0700
TZNAME:MST
DTSTART:20201101T080000
END:STANDARD
END:VTIMEZONE
BEGIN:VEVENT
DTSTART;TZID=America/Denver:20200407T093000
DTEND;TZID=America/Denver:20200407T140000
DTSTAMP:20260425T173239
CREATED:20200312T230541Z
LAST-MODIFIED:20200318T222129Z
UID:61062-1586251800-1586268000@krtnradio.com
SUMMARY:Postponed to Fall: Harding County Health Fair
DESCRIPTION:Spring Health Fair \nHealth Information/Services\nDoor Prizes\nTuesday\, April 7\, 2020\n9:30am – 2:00pm\nHarding County\nCommunity Building\nSponsored by:\nHarding County Health Council
URL:https://krtnradio.com/wp/event/harding-county-health-fair-2/
LOCATION:Roy Community Building\, 557 Wagon Mound Hwy\, Roy\, NM\, 87743\, United States
CATEGORIES:Area Events
ATTACH;FMTTYPE=image/jpeg:https://krtnradio.com/wp/wp-content/uploads/2014/11/Health-Fair-.jpg
END:VEVENT
END:VCALENDAR