BEGIN:VCALENDAR
VERSION:2.0
PRODID:-//KRTN Enchanted Air Radio - ECPv5.16.4.1//NONSGML v1.0//EN
CALSCALE:GREGORIAN
METHOD:PUBLISH
X-WR-CALNAME:KRTN Enchanted Air Radio
X-ORIGINAL-URL:https://krtnradio.com/wp
X-WR-CALDESC:Events for KRTN Enchanted Air Radio
BEGIN:VTIMEZONE
TZID:America/Denver
BEGIN:DAYLIGHT
TZOFFSETFROM:-0700
TZOFFSETTO:-0600
TZNAME:MDT
DTSTART:20200308T090000
END:DAYLIGHT
BEGIN:STANDARD
TZOFFSETFROM:-0600
TZOFFSETTO:-0700
TZNAME:MST
DTSTART:20201101T080000
END:STANDARD
END:VTIMEZONE
BEGIN:VEVENT
DTSTART;VALUE=DATE:20200704
DTEND;VALUE=DATE:20200705
DTSTAMP:20260425T092012
CREATED:20200611T202058Z
LAST-MODIFIED:20200611T202058Z
UID:63609-1593820800-1593907199@krtnradio.com
SUMMARY:Happy Independence Day!
DESCRIPTION:
URL:https://krtnradio.com/wp/event/happy-independence-day/
ATTACH;FMTTYPE=image/gif:https://krtnradio.com/wp/wp-content/uploads/2015/01/fourth-of-july-SPARKLE.gif
END:VEVENT
END:VCALENDAR