BEGIN:VCALENDAR
VERSION:2.0
PRODID:-//KRTN Enchanted Air Radio - ECPv5.16.4.1//NONSGML v1.0//EN
CALSCALE:GREGORIAN
METHOD:PUBLISH
X-WR-CALNAME:KRTN Enchanted Air Radio
X-ORIGINAL-URL:https://krtnradio.com/wp
X-WR-CALDESC:Events for KRTN Enchanted Air Radio
BEGIN:VTIMEZONE
TZID:America/Denver
BEGIN:DAYLIGHT
TZOFFSETFROM:-0700
TZOFFSETTO:-0600
TZNAME:MDT
DTSTART:20240310T090000
END:DAYLIGHT
BEGIN:STANDARD
TZOFFSETFROM:-0600
TZOFFSETTO:-0700
TZNAME:MST
DTSTART:20241103T080000
END:STANDARD
END:VTIMEZONE
BEGIN:VEVENT
DTSTART;TZID=America/Denver:20240426T110000
DTEND;TZID=America/Denver:20240426T120000
DTSTAMP:20260423T080639
CREATED:20240326T211958Z
LAST-MODIFIED:20240326T211958Z
UID:89488-1714129200-1714132800@krtnradio.com
SUMMARY:Hammer Forged Training Center: Mobility\, Stability\, & Balance Class
DESCRIPTION:
URL:https://krtnradio.com/wp/event/hammer-forged-training-center-mobility-stability-balance-class-4/
CATEGORIES:Meetings
END:VEVENT
END:VCALENDAR