BEGIN:VCALENDAR
VERSION:2.0
PRODID:-//KRTN Enchanted Air Radio - ECPv5.16.4.1//NONSGML v1.0//EN
CALSCALE:GREGORIAN
METHOD:PUBLISH
X-WR-CALNAME:KRTN Enchanted Air Radio
X-ORIGINAL-URL:https://krtnradio.com/wp
X-WR-CALDESC:Events for KRTN Enchanted Air Radio
BEGIN:VTIMEZONE
TZID:America/Denver
BEGIN:DAYLIGHT
TZOFFSETFROM:-0700
TZOFFSETTO:-0600
TZNAME:MDT
DTSTART:20240310T090000
END:DAYLIGHT
BEGIN:STANDARD
TZOFFSETFROM:-0600
TZOFFSETTO:-0700
TZNAME:MST
DTSTART:20241103T080000
END:STANDARD
END:VTIMEZONE
BEGIN:VEVENT
DTSTART;TZID=America/Denver:20240430T190000
DTEND;TZID=America/Denver:20240430T200000
DTSTAMP:20260423T134311
CREATED:20240326T204933Z
LAST-MODIFIED:20240326T204933Z
UID:89465-1714503600-1714507200@krtnradio.com
SUMMARY:Hammer Forged Training Center: Beginners Pilates
DESCRIPTION:
URL:https://krtnradio.com/wp/event/hammer-forged-training-center-beginners-pilates-5/
CATEGORIES:Area Events
END:VEVENT
END:VCALENDAR