BEGIN:VCALENDAR
VERSION:2.0
PRODID:-//KRTN Enchanted Air Radio - ECPv5.16.4.1//NONSGML v1.0//EN
CALSCALE:GREGORIAN
METHOD:PUBLISH
X-WR-CALNAME:KRTN Enchanted Air Radio
X-ORIGINAL-URL:https://krtnradio.com/wp
X-WR-CALDESC:Events for KRTN Enchanted Air Radio
BEGIN:VTIMEZONE
TZID:America/Denver
BEGIN:DAYLIGHT
TZOFFSETFROM:-0700
TZOFFSETTO:-0600
TZNAME:MDT
DTSTART:20260308T090000
END:DAYLIGHT
BEGIN:STANDARD
TZOFFSETFROM:-0600
TZOFFSETTO:-0700
TZNAME:MST
DTSTART:20261101T080000
END:STANDARD
END:VTIMEZONE
BEGIN:VEVENT
DTSTART;VALUE=DATE:20260421
DTEND;VALUE=DATE:20260422
DTSTAMP:20260423T024123
CREATED:20260403T205358Z
LAST-MODIFIED:20260403T205358Z
UID:100296-1776729600-1776815999@krtnradio.com
SUMMARY:Hammer Forged Athletics & Training Center Full Calendar
DESCRIPTION:Pilates 6:15 am – 6:45 am \nTabata 6:15 am  – 6:45 am \nTeeny Tiny FitKids 10- 10:45 am \nAfter School Hours 3:30 pm – 5pm \nYouth Athletic Development 5:30 pm – 6:45 pm \nYoga 5:30 pm – 6:30 pm \nPowerhouse Tabata 7 pm – 7:30 pm \nCLICK HERE FOR SPECIFIC MEMBERSHIP COST AND MORE INFORMATION.
URL:https://krtnradio.com/wp/event/hammer-forged-athletics-training-center-full-calendar-12/
CATEGORIES:Area Events
ATTACH;FMTTYPE=image/jpeg:https://krtnradio.com/wp/wp-content/uploads/2026/04/Screenshot-2026-04-03-135639.jpg
END:VEVENT
END:VCALENDAR