BEGIN:VCALENDAR
VERSION:2.0
PRODID:-//KRTN Enchanted Air Radio - ECPv5.16.4.1//NONSGML v1.0//EN
CALSCALE:GREGORIAN
METHOD:PUBLISH
X-WR-CALNAME:KRTN Enchanted Air Radio
X-ORIGINAL-URL:https://krtnradio.com/wp
X-WR-CALDESC:Events for KRTN Enchanted Air Radio
BEGIN:VTIMEZONE
TZID:America/Denver
BEGIN:DAYLIGHT
TZOFFSETFROM:-0700
TZOFFSETTO:-0600
TZNAME:MDT
DTSTART:20260308T090000
END:DAYLIGHT
BEGIN:STANDARD
TZOFFSETFROM:-0600
TZOFFSETTO:-0700
TZNAME:MST
DTSTART:20261101T080000
END:STANDARD
END:VTIMEZONE
BEGIN:VEVENT
DTSTART;VALUE=DATE:20260420
DTEND;VALUE=DATE:20260421
DTSTAMP:20260423T024123
CREATED:20260403T205251Z
LAST-MODIFIED:20260403T205251Z
UID:100294-1776643200-1776729599@krtnradio.com
SUMMARY:Hammer Forged Athletics & Training Center Full Calendar
DESCRIPTION:Senior Fitness  8am – 9am or 10 am – 11 am \nAfter School Hours 3:30 pm – 5 pm \nZumba 5:30 pm – 6:15 pm \nPower Glutes & Core 6pm – 6:30 pm \nBeginner Spin 6:45 pm – 7:30 pm \n  \nCLICK HERE FOR SPECIFIC MEMBERSHIP COST AND MORE INFORMATION.
URL:https://krtnradio.com/wp/event/hammer-forged-athletics-training-center-full-calendar-11/
CATEGORIES:Area Events
ATTACH;FMTTYPE=image/jpeg:https://krtnradio.com/wp/wp-content/uploads/2026/04/Screenshot-2026-04-03-135639.jpg
END:VEVENT
END:VCALENDAR