BEGIN:VCALENDAR
VERSION:2.0
PRODID:-//KRTN Enchanted Air Radio - ECPv5.16.4.1//NONSGML v1.0//EN
CALSCALE:GREGORIAN
METHOD:PUBLISH
X-WR-CALNAME:KRTN Enchanted Air Radio
X-ORIGINAL-URL:https://krtnradio.com/wp
X-WR-CALDESC:Events for KRTN Enchanted Air Radio
BEGIN:VTIMEZONE
TZID:America/Denver
BEGIN:DAYLIGHT
TZOFFSETFROM:-0700
TZOFFSETTO:-0600
TZNAME:MDT
DTSTART:20170312T090000
END:DAYLIGHT
BEGIN:STANDARD
TZOFFSETFROM:-0600
TZOFFSETTO:-0700
TZNAME:MST
DTSTART:20171105T080000
END:STANDARD
END:VTIMEZONE
BEGIN:VEVENT
DTSTART;VALUE=DATE:20170126
DTEND;VALUE=DATE:20170127
DTSTAMP:20260425T082410
CREATED:20170113T174505Z
LAST-MODIFIED:20170113T174505Z
UID:32094-1485388800-1485475199@krtnradio.com
SUMMARY:Growing Great Kids Workshop:  Communicating
DESCRIPTION:The Raton Early Childhood Coalition presents Growing Great Kids! Join us as we share tips on Early Childhood (focusing on Prenatal through Age 5)  Thursday\, January 26th at The Children’s Workshop in Raton. REFRESHMENTS PROVIDED 5:30 –6:30 PM. Please\, bring your children! For more Information\, call Patricia at 575-445-3520 Ext. 203. \nLife Skill #3 Communicating~  Communicating is much more than understanding language\, speaking\, reading and writing – it is the skill of determining what one wants to communicate and realizing how our communications will be understood by others. It is the skill that teachers and employers feel is most lacking today. \nThe Children’s Workshop\n230 4th Ave.\nRaton\, NM  87740
URL:https://krtnradio.com/wp/event/growing-great-kids-workshop-communicating/
LOCATION:The Children’s Workshop\, 230 4th Avenue\, Raton\, NM\, 87740\, United States
CATEGORIES:Meetings
ATTACH;FMTTYPE=image/jpeg:https://krtnradio.com/wp/wp-content/uploads/2015/10/children_silhouettes_holding_hands_up.jpg
END:VEVENT
END:VCALENDAR