BEGIN:VCALENDAR
VERSION:2.0
PRODID:-//KRTN Enchanted Air Radio - ECPv5.16.4.1//NONSGML v1.0//EN
CALSCALE:GREGORIAN
METHOD:PUBLISH
X-WR-CALNAME:KRTN Enchanted Air Radio
X-ORIGINAL-URL:https://krtnradio.com/wp
X-WR-CALDESC:Events for KRTN Enchanted Air Radio
BEGIN:VTIMEZONE
TZID:America/Denver
BEGIN:DAYLIGHT
TZOFFSETFROM:-0700
TZOFFSETTO:-0600
TZNAME:MDT
DTSTART:20230312T090000
END:DAYLIGHT
BEGIN:STANDARD
TZOFFSETFROM:-0600
TZOFFSETTO:-0700
TZNAME:MST
DTSTART:20231105T080000
END:STANDARD
END:VTIMEZONE
BEGIN:VEVENT
DTSTART;TZID=America/Denver:20230905T180000
DTEND;TZID=America/Denver:20230905T180000
DTSTAMP:20260425T184106
CREATED:20230831T180850Z
LAST-MODIFIED:20230831T180850Z
UID:85846-1693936800-1693936800@krtnradio.com
SUMMARY:Grow Raton INFO AGE Presented by: Rich Kuhns
DESCRIPTION:
URL:https://krtnradio.com/wp/event/grow-raton-info-age-presented-by-rich-kuhns/
CATEGORIES:Area Events
END:VEVENT
END:VCALENDAR