BEGIN:VCALENDAR
VERSION:2.0
PRODID:-//KRTN Enchanted Air Radio - ECPv5.16.4.1//NONSGML v1.0//EN
CALSCALE:GREGORIAN
METHOD:PUBLISH
X-WR-CALNAME:KRTN Enchanted Air Radio
X-ORIGINAL-URL:https://krtnradio.com/wp
X-WR-CALDESC:Events for KRTN Enchanted Air Radio
BEGIN:VTIMEZONE
TZID:America/Denver
BEGIN:DAYLIGHT
TZOFFSETFROM:-0700
TZOFFSETTO:-0600
TZNAME:MDT
DTSTART:20230312T090000
END:DAYLIGHT
BEGIN:STANDARD
TZOFFSETFROM:-0600
TZOFFSETTO:-0700
TZNAME:MST
DTSTART:20231105T080000
END:STANDARD
END:VTIMEZONE
BEGIN:VEVENT
DTSTART;TZID=America/Denver:20231202T100000
DTEND;TZID=America/Denver:20231202T120000
DTSTAMP:20260425T152805
CREATED:20231004T193609Z
LAST-MODIFIED:20231004T193609Z
UID:86537-1701511200-1701518400@krtnradio.com
SUMMARY:GINGERBREAD HOUSE ACTIVITY
DESCRIPTION:December 2 | 10:00 am -12:00 pm \nMt. Carmel Wellness & Community Center | 911 Robinson Ave.\, Trinidad\, CO \nFor ages 4-13 | Only 35 Kits available | 1 Kit per child \nMUST RSVP – Call 719-845-4894 to register!
URL:https://krtnradio.com/wp/event/gingerbread-house-activity/
CATEGORIES:Area Events
END:VEVENT
END:VCALENDAR