BEGIN:VCALENDAR
VERSION:2.0
PRODID:-//KRTN Enchanted Air Radio - ECPv5.16.4.1//NONSGML v1.0//EN
CALSCALE:GREGORIAN
METHOD:PUBLISH
X-WR-CALNAME:KRTN Enchanted Air Radio
X-ORIGINAL-URL:https://krtnradio.com/wp
X-WR-CALDESC:Events for KRTN Enchanted Air Radio
BEGIN:VTIMEZONE
TZID:America/Denver
BEGIN:DAYLIGHT
TZOFFSETFROM:-0700
TZOFFSETTO:-0600
TZNAME:MDT
DTSTART:20200308T090000
END:DAYLIGHT
BEGIN:STANDARD
TZOFFSETFROM:-0600
TZOFFSETTO:-0700
TZNAME:MST
DTSTART:20201101T080000
END:STANDARD
END:VTIMEZONE
BEGIN:VEVENT
DTSTART;TZID=America/Denver:20200630T080000
DTEND;TZID=America/Denver:20200630T090000
DTSTAMP:20260425T161801
CREATED:20200518T215210Z
LAST-MODIFIED:20200518T215210Z
UID:63049-1593504000-1593507600@krtnradio.com
SUMMARY:Get Strong (Virtual) ~ Mt. Carmel Wellness & Community Center
DESCRIPTION:Get Strong\nJoin Alison Mendonca for virtual strength training. \nTuesdays & Thursdays @ 8 am \nRegister in advance for this meeting:\nhttps://us02web.zoom.us/meeting/register/tZIudOyvqj4jH9wgkM7kzrX-1OBSxa_xG92H \nAfter registering\, you will receive a confirmation email containing information about joining the meeting.
URL:https://krtnradio.com/wp/event/get-strong-virtual-mt-carmel-wellness-community-center-13/
CATEGORIES:Area Events
ATTACH;FMTTYPE=image/jpeg:https://krtnradio.com/wp/wp-content/uploads/2020/05/Get-Strong.jpg
END:VEVENT
END:VCALENDAR