BEGIN:VCALENDAR
VERSION:2.0
PRODID:-//KRTN Enchanted Air Radio - ECPv5.16.4.1//NONSGML v1.0//EN
CALSCALE:GREGORIAN
METHOD:PUBLISH
X-WR-CALNAME:KRTN Enchanted Air Radio
X-ORIGINAL-URL:https://krtnradio.com/wp
X-WR-CALDESC:Events for KRTN Enchanted Air Radio
BEGIN:VTIMEZONE
TZID:America/Denver
BEGIN:DAYLIGHT
TZOFFSETFROM:-0700
TZOFFSETTO:-0600
TZNAME:MDT
DTSTART:20200308T090000
END:DAYLIGHT
BEGIN:STANDARD
TZOFFSETFROM:-0600
TZOFFSETTO:-0700
TZNAME:MST
DTSTART:20201101T080000
END:STANDARD
END:VTIMEZONE
BEGIN:VEVENT
DTSTART;TZID=America/Denver:20200919T080000
DTEND;TZID=America/Denver:20200919T080000
DTSTAMP:20260424T141158
CREATED:20200902T191358Z
LAST-MODIFIED:20200918T192449Z
UID:66548-1600502400-1600502400@krtnradio.com
SUMMARY:CANCELLED! Friends of County Road 85.5 4x4 Ride to Benefit the Local Animal Shelters
DESCRIPTION:Was Originally scheduled for Labor Day Weekend but postponed due to East Fork Fire.\nLloyd Rosecrans and H.L. Bowman have started a small group of avid 4 wheelers who enjoy driving on challenging roads.  Their local road of choice is County Road 85.5 in Las Animas County.  The road is very rough\, rock and dirt\, one lane\, and only open from Memorial Day to Labor Day.  The road is quite an adventure\, even for a 4 wheel drive vehicle.  Traveling from east of Trinidad\, the road climbs a steep wooded valley to the border with New Mexico.  The road then continues down a grass-covered valley leading to Sugarite Park in New Mexico. \nIn June\, the 4×4 event asked $20 donations per vehicle and was able to raise $200 for local animal shelters including Noah’s Ark in Trinidad\, and the Raton Animal Shelter.  As animal lovers\, they were proud to donate 100% of the proceeds. \nOn September 19\, 2020\, at 8:00 a.m. the participants will assemble at the old Kmart parking lot in Raton\, NM.  The group will leave for Sugarite Canyon at 9:00 a.m.  Please follow all masks and distancing requirements. \nThis is an opportunity to get out of the house and have some safe family fun.  This is a beautiful drive behind Fishers Peak\, through rarely seen areas of Colorado and New Mexico.  There is no fee to travel on this road\, however\, a $20 donation is asked for the animal shelters. \nA map of the route will be provided at the start of the rally.  Join us for some adventure! \nOnce again\, this is a 4 wheel drive road only. \n 
URL:https://krtnradio.com/wp/event/friends-of-county-road-85-5-4x4-labor-day-ride/
CATEGORIES:Area Events
ATTACH;FMTTYPE=image/jpeg:https://krtnradio.com/wp/wp-content/uploads/2020/09/4x4-truck-pic.jpg
END:VEVENT
END:VCALENDAR