BEGIN:VCALENDAR
VERSION:2.0
PRODID:-//KRTN Enchanted Air Radio - ECPv5.16.4.1//NONSGML v1.0//EN
CALSCALE:GREGORIAN
METHOD:PUBLISH
X-WR-CALNAME:KRTN Enchanted Air Radio
X-ORIGINAL-URL:https://krtnradio.com/wp
X-WR-CALDESC:Events for KRTN Enchanted Air Radio
BEGIN:VTIMEZONE
TZID:America/Denver
BEGIN:DAYLIGHT
TZOFFSETFROM:-0700
TZOFFSETTO:-0600
TZNAME:MDT
DTSTART:20200308T090000
END:DAYLIGHT
BEGIN:STANDARD
TZOFFSETFROM:-0600
TZOFFSETTO:-0700
TZNAME:MST
DTSTART:20201101T080000
END:STANDARD
END:VTIMEZONE
BEGIN:VEVENT
DTSTART;TZID=America/Denver:20200718T100000
DTEND;TZID=America/Denver:20200718T100000
DTSTAMP:20260425T075441
CREATED:20200714T165618Z
LAST-MODIFIED:20200714T165618Z
UID:64621-1595066400-1595066400@krtnradio.com
SUMMARY:Free: Family Fun Saturdays ~  Trinidad History Museum on the Historic Santa Fe Trail
DESCRIPTION:Looking for something fun to do with the family this Saturday? \nJoin us for our first Family Fun Saturday Event. \nWe will learn about yucca\, and paint with yucca paintbrushes. \nThis event is free and will take place outdoors on the Bloom lawn. \nFor more information\, contact Abigail: abigail.melton@state.co.us
URL:https://krtnradio.com/wp/event/free-family-fun-saturdays-trinidad-history-museum-on-the-historic-santa-fe-trail/
LOCATION:Trinidad history museum\, 312 E Main St\, Trinidad\, CO\, 81082\, United States
CATEGORIES:Area Events
ATTACH;FMTTYPE=image/png:https://krtnradio.com/wp/wp-content/uploads/2019/01/Trinidad-History-Museum-Logo.png
END:VEVENT
END:VCALENDAR