BEGIN:VCALENDAR
VERSION:2.0
PRODID:-//KRTN Enchanted Air Radio - ECPv5.16.4.1//NONSGML v1.0//EN
CALSCALE:GREGORIAN
METHOD:PUBLISH
X-WR-CALNAME:KRTN Enchanted Air Radio
X-ORIGINAL-URL:https://krtnradio.com/wp
X-WR-CALDESC:Events for KRTN Enchanted Air Radio
BEGIN:VTIMEZONE
TZID:America/Denver
BEGIN:DAYLIGHT
TZOFFSETFROM:-0700
TZOFFSETTO:-0600
TZNAME:MDT
DTSTART:20200308T090000
END:DAYLIGHT
BEGIN:STANDARD
TZOFFSETFROM:-0600
TZOFFSETTO:-0700
TZNAME:MST
DTSTART:20201101T080000
END:STANDARD
END:VTIMEZONE
BEGIN:VEVENT
DTSTART;TZID=America/Denver:20200327T140000
DTEND;TZID=America/Denver:20200327T160000
DTSTAMP:20260425T170734
CREATED:20200213T161703Z
LAST-MODIFIED:20200326T143413Z
UID:60091-1585317600-1585324800@krtnradio.com
SUMMARY:Postponed: Free Diabetes Self-Management Workshop Hosted by Mt. San Rafael Hospital and Mt. Carmel Wellness & Community Center
DESCRIPTION:JOIN THE CLASS TODAY & LEARN ABOUT:\n+Healthy eating\n+Being active\n+Monitoring your blood sugar\n+Taking medications\n+Problem solving\n+Healthy coping\n+Reducing your health risks \nDSME is a group of services to help people with diabetes improve their health. SDME increases the knowledge and skills needed for diabetes self-care. \n– Healthcare team to help you manage your diabetes\n– Create a plan just for you with the tools and support you need\n– Group and individual education sessions \nCall Elizabeth Trammell at 719-846-2213 to register!
URL:https://krtnradio.com/wp/event/free-diabetes-self-management-workshop-hosted-by-mt-san-rafael-hospital-and-mt-carmel-wellness-community-center-7/
LOCATION:Mt Carmel Health\, Wellness\, & Community Center\, Trinidad\, CO\, 81082\, United States
CATEGORIES:Meetings
ATTACH;FMTTYPE=image/jpeg:https://krtnradio.com/wp/wp-content/uploads/2020/02/Mt-Carmel-Diabetes-Class-2020.jpg
END:VEVENT
END:VCALENDAR