BEGIN:VCALENDAR
VERSION:2.0
PRODID:-//KRTN Enchanted Air Radio - ECPv5.16.4.1//NONSGML v1.0//EN
CALSCALE:GREGORIAN
METHOD:PUBLISH
X-WR-CALNAME:KRTN Enchanted Air Radio
X-ORIGINAL-URL:https://krtnradio.com/wp
X-WR-CALDESC:Events for KRTN Enchanted Air Radio
BEGIN:VTIMEZONE
TZID:America/Denver
BEGIN:DAYLIGHT
TZOFFSETFROM:-0700
TZOFFSETTO:-0600
TZNAME:MDT
DTSTART:20250309T090000
END:DAYLIGHT
BEGIN:STANDARD
TZOFFSETFROM:-0600
TZOFFSETTO:-0700
TZNAME:MST
DTSTART:20251102T080000
END:STANDARD
END:VTIMEZONE
BEGIN:VEVENT
DTSTART;TZID=America/Denver:20250817T150000
DTEND;TZID=America/Denver:20250817T170000
DTSTAMP:20260423T134628
CREATED:20250815T154800Z
LAST-MODIFIED:20250815T154800Z
UID:96962-1755442800-1755450000@krtnradio.com
SUMMARY:Free Concert: Music From Angel Fire “Romance and Reel” at The Historic Shuler Theatre
DESCRIPTION:2025 Music From Angel Fire Concert #3 “Romance and Reel” – 3pm at The Historic Shuler Theater! Admission: Free \nCONCERT 3: “Romance and Reel” \nPiano Trio No. 2 in C Major\, Op.87 (29 minutes)\nJOHANNES BRAHMS (1833-1897) \nAllegro (moderato)\nAndante con moto\nScherzo. Presto — Poco meno presto\nFinale. Allegro giocoso\nBenny Kim\, violin • Edward Arron\, cello • Shai Wosner\, piano \nINTERMISSION \nCollege \, a 1927 film by Buster Keaton with live film score by Stephen Prutsman (1 hour and 5 minutes)\nKEATON/PRUTSMAN\nThe Dolphins\nLuke Henderson\, violin • Isaac Park\, violin • James Preucil\, viola • Ian Maloney\, cello\nMarina Iwao\, piano \n 
URL:https://krtnradio.com/wp/event/free-concert-music-from-angel-fire-romance-and-reel-at-the-historic-shuler-theatre/
CATEGORIES:Area Events
ATTACH;FMTTYPE=image/jpeg:https://krtnradio.com/wp/wp-content/uploads/2025/08/529473659_1210262374237226_7488002427663619465_n.jpg
END:VEVENT
END:VCALENDAR