BEGIN:VCALENDAR
VERSION:2.0
PRODID:-//KRTN Enchanted Air Radio - ECPv5.16.4.1//NONSGML v1.0//EN
CALSCALE:GREGORIAN
METHOD:PUBLISH
X-WR-CALNAME:KRTN Enchanted Air Radio
X-ORIGINAL-URL:https://krtnradio.com/wp
X-WR-CALDESC:Events for KRTN Enchanted Air Radio
BEGIN:VTIMEZONE
TZID:America/Denver
BEGIN:DAYLIGHT
TZOFFSETFROM:-0700
TZOFFSETTO:-0600
TZNAME:MDT
DTSTART:20240310T090000
END:DAYLIGHT
BEGIN:STANDARD
TZOFFSETFROM:-0600
TZOFFSETTO:-0700
TZNAME:MST
DTSTART:20241103T080000
END:STANDARD
END:VTIMEZONE
BEGIN:VEVENT
DTSTART;TZID=America/Denver:20240327T100000
DTEND;TZID=America/Denver:20240327T233000
DTSTAMP:20260424T020104
CREATED:20240112T221329Z
LAST-MODIFIED:20240112T221329Z
UID:88028-1711533600-1711582200@krtnradio.com
SUMMARY:Forrest McCurren Performing Live Arthur Johnson Memorial Library
DESCRIPTION:Forrest McCurren will be performing live at the Arthur Johnson Memorial Library on March 27\, 2024! Join us for an hour and a half of music and storytelling. This event is free and open to all ages!\n\nAbout the Artist\nForrest McCurren comes from the heart of the heartland\, where the foothills of the Ozarks meet the Big Muddy: The Middle-of-Missouri. Blazing his own trail while stylistically tipping his hat to the songwriting giants of the past\, McCurren wields the magic of lyricism to cast a light on the many intricacies of everyday life set against vignettes of Middle America. Tackling topics such as: wise words from waitresses\, heartbroken high school football standouts\, and tattooed trailer park lovers\, McCurren writes songs for good people that got bad grades in school\, are drunk on dreams\, and still trying to figure out if life is sour or sweet.\nLearn more at forrestmccurren.com/epk
URL:https://krtnradio.com/wp/event/forrest-mccurren-performing-live-arthur-johnson-memorial-library/
CATEGORIES:Area Events
ATTACH;FMTTYPE=image/jpeg:https://krtnradio.com/wp/wp-content/uploads/2019/07/Arthur-Johnson-Memorial-Library-Logo-e1564092754216.jpg
END:VEVENT
END:VCALENDAR