BEGIN:VCALENDAR
VERSION:2.0
PRODID:-//KRTN Enchanted Air Radio - ECPv5.16.4.1//NONSGML v1.0//EN
CALSCALE:GREGORIAN
METHOD:PUBLISH
X-WR-CALNAME:KRTN Enchanted Air Radio
X-ORIGINAL-URL:https://krtnradio.com/wp
X-WR-CALDESC:Events for KRTN Enchanted Air Radio
BEGIN:VTIMEZONE
TZID:America/Denver
BEGIN:DAYLIGHT
TZOFFSETFROM:-0700
TZOFFSETTO:-0600
TZNAME:MDT
DTSTART:20230312T090000
END:DAYLIGHT
BEGIN:STANDARD
TZOFFSETFROM:-0600
TZOFFSETTO:-0700
TZNAME:MST
DTSTART:20231105T080000
END:STANDARD
END:VTIMEZONE
BEGIN:VEVENT
DTSTART;TZID=America/Denver:20230217T190000
DTEND;TZID=America/Denver:20230217T190000
DTSTAMP:20260422T173341
CREATED:20230111T173822Z
LAST-MODIFIED:20230111T173822Z
UID:81541-1676660400-1676660400@krtnradio.com
SUMMARY:Footlight Frenzy
DESCRIPTION:Footlight Frenzy\nby Ron House\, Diz White\, Alan Shearman\, Mark Blankenfield\, Brandie Kemp\, Mitchell Kreindel\n\n\n\nIn a desperate attempt to save their bankrupt “School for Unusual Children” the PTA group valiantly mounts an ambitious benefit play\, written by a has been Broadway director. His near hysterical direction and the group’s questionable talent turn the production into a shambles. \nFast and furious theatrical fun of the first order…a riotous play-within-a-play! \n​ \nComedy. \nAppropriate for all ages. \n\n\nFeb 10th – 12th &\nFeb 17th – 19th \n\n\n\nFri & Sat: 7:00pm \nSun: 2:00pm \n\n\n\nBox office opens one hour prior to curtain. \n$18 – Adult\n$10 – Youth (17 and under) \nGeneral admission seating. \n\nBUY TICKETS!
URL:https://krtnradio.com/wp/event/footlight-frenzy-4/
CATEGORIES:Area Events
ATTACH;FMTTYPE=image/png:https://krtnradio.com/wp/wp-content/uploads/2023/01/Screenshot-2023-01-11T103044.858.png
END:VEVENT
END:VCALENDAR