BEGIN:VCALENDAR
VERSION:2.0
PRODID:-//KRTN Enchanted Air Radio - ECPv5.16.4.1//NONSGML v1.0//EN
CALSCALE:GREGORIAN
METHOD:PUBLISH
X-WR-CALNAME:KRTN Enchanted Air Radio
X-ORIGINAL-URL:https://krtnradio.com/wp
X-WR-CALDESC:Events for KRTN Enchanted Air Radio
BEGIN:VTIMEZONE
TZID:America/Denver
BEGIN:DAYLIGHT
TZOFFSETFROM:-0700
TZOFFSETTO:-0600
TZNAME:MDT
DTSTART:20200308T090000
END:DAYLIGHT
BEGIN:STANDARD
TZOFFSETFROM:-0600
TZOFFSETTO:-0700
TZNAME:MST
DTSTART:20201101T080000
END:STANDARD
END:VTIMEZONE
BEGIN:VEVENT
DTSTART;TZID=America/Denver:20200227T083000
DTEND;TZID=America/Denver:20200227T163000
DTSTAMP:20260424T060403
CREATED:20200207T204148Z
LAST-MODIFIED:20200207T204148Z
UID:59778-1582792200-1582821000@krtnradio.com
SUMMARY:Food Manager Certification Class ~ The Center for Community Innovation
DESCRIPTION:Feb 27 at 8:30 AM – Feb 28 at 4:30 PM \n130 Park Ave\, Raton\, NM 87740 \nFood Manager Certification Class \nCenter for Community Innovation\, 130 Park Ave.\, Raton \nClass Instruction: Thursday\, February 27\, 2020\n8:30 AM – 12:00 PM (Feb 28) \nExam: Friday\, February 28\, 2020\n1:00 PM – 4:30 PM \nThis certification is nationally recognized and valid in CO and NM.\nFEE: $205\nCONTACT: Florence Higgins (575) 447-6474\nEMAIL: askflorence08@hotmail.com
URL:https://krtnradio.com/wp/event/food-manager-certification-class-the-center-for-community-innovation/
LOCATION:Center for Community Innovation\, 130 Park Ave\, Raton\, NM\, 87740
CATEGORIES:Area Events
ATTACH;FMTTYPE=image/jpeg:https://krtnradio.com/wp/wp-content/uploads/2019/01/food-safety-clip-art-e1581533692632.jpg
END:VEVENT
END:VCALENDAR