BEGIN:VCALENDAR
VERSION:2.0
PRODID:-//KRTN Enchanted Air Radio - ECPv5.16.4.1//NONSGML v1.0//EN
CALSCALE:GREGORIAN
METHOD:PUBLISH
X-WR-CALNAME:KRTN Enchanted Air Radio
X-ORIGINAL-URL:https://krtnradio.com/wp
X-WR-CALDESC:Events for KRTN Enchanted Air Radio
BEGIN:VTIMEZONE
TZID:America/Denver
BEGIN:DAYLIGHT
TZOFFSETFROM:-0700
TZOFFSETTO:-0600
TZNAME:MDT
DTSTART:20200308T090000
END:DAYLIGHT
BEGIN:STANDARD
TZOFFSETFROM:-0600
TZOFFSETTO:-0700
TZNAME:MST
DTSTART:20201101T080000
END:STANDARD
END:VTIMEZONE
BEGIN:VEVENT
DTSTART;TZID=America/Denver:20200507T160000
DTEND;TZID=America/Denver:20200507T180000
DTSTAMP:20260425T122028
CREATED:20200505T215904Z
LAST-MODIFIED:20200505T215904Z
UID:62691-1588867200-1588874400@krtnradio.com
SUMMARY:Food Donations Accepted for Hunger Pantry
DESCRIPTION:Thanks\, Raton for the food donations for the Hunger Pantry! \nSee you on Thursday at 4-6 pm @ First United Methodist Church in Raton. \nBring any non-perishable food item or cleaning supplies to assist the needy in our area.
URL:https://krtnradio.com/wp/event/food-donations-accepted-for-hunger-pantry/
LOCATION:First United Methodist Church\, 1501 S 4th St\, Raton\, NM\, 87740
CATEGORIES:Area Events
ATTACH;FMTTYPE=image/jpeg:https://krtnradio.com/wp/wp-content/uploads/2020/02/hunger-clipart-Hunger-Knows-No-Season-Hunger-Pantry-Logo.jpg
END:VEVENT
END:VCALENDAR