BEGIN:VCALENDAR
VERSION:2.0
PRODID:-//KRTN Enchanted Air Radio - ECPv5.16.4.1//NONSGML v1.0//EN
CALSCALE:GREGORIAN
METHOD:PUBLISH
X-WR-CALNAME:KRTN Enchanted Air Radio
X-ORIGINAL-URL:https://krtnradio.com/wp
X-WR-CALDESC:Events for KRTN Enchanted Air Radio
BEGIN:VTIMEZONE
TZID:America/Denver
BEGIN:DAYLIGHT
TZOFFSETFROM:-0700
TZOFFSETTO:-0600
TZNAME:MDT
DTSTART:20230312T090000
END:DAYLIGHT
BEGIN:STANDARD
TZOFFSETFROM:-0600
TZOFFSETTO:-0700
TZNAME:MST
DTSTART:20231105T080000
END:STANDARD
END:VTIMEZONE
BEGIN:VEVENT
DTSTART;VALUE=DATE:20230520
DTEND;VALUE=DATE:20230521
DTSTAMP:20260425T055148
CREATED:20230317T185555Z
LAST-MODIFIED:20230317T185555Z
UID:83604-1684540800-1684627199@krtnradio.com
SUMMARY:Folsom Man Archeological Site Tour
DESCRIPTION:TO MAKE RESERVATIONS PLEASE CALL THE FOLSOM MUSEUM AT 575-278-2122 OR EMAIL museum@folsomvillage.com
URL:https://krtnradio.com/wp/event/folsom-man-archeological-site-tour/
CATEGORIES:Area Events
ATTACH;FMTTYPE=image/jpeg:https://krtnradio.com/wp/wp-content/uploads/2019/07/P1050237.jpg
END:VEVENT
END:VCALENDAR