BEGIN:VCALENDAR
VERSION:2.0
PRODID:-//KRTN Enchanted Air Radio - ECPv5.16.4.1//NONSGML v1.0//EN
CALSCALE:GREGORIAN
METHOD:PUBLISH
X-WR-CALNAME:KRTN Enchanted Air Radio
X-ORIGINAL-URL:https://krtnradio.com/wp
X-WR-CALDESC:Events for KRTN Enchanted Air Radio
BEGIN:VTIMEZONE
TZID:America/Denver
BEGIN:DAYLIGHT
TZOFFSETFROM:-0700
TZOFFSETTO:-0600
TZNAME:MDT
DTSTART:20200308T090000
END:DAYLIGHT
BEGIN:STANDARD
TZOFFSETFROM:-0600
TZOFFSETTO:-0700
TZNAME:MST
DTSTART:20201101T080000
END:STANDARD
END:VTIMEZONE
BEGIN:VEVENT
DTSTART;TZID=America/Denver:20200730T000000
DTEND;TZID=America/Denver:20200730T000000
DTSTAMP:20260425T045132
CREATED:20200730T205715Z
LAST-MODIFIED:20200730T205715Z
UID:65571-1596067200-1596067200@krtnradio.com
SUMMARY:Fire Ban Lifted in Districts of Colfax County
DESCRIPTION:PUBLIC NOTICE \nFIRE BURN BAN LIFTED \nUpon consultation with the Fire Chiefs of Colfax County\, and under the authority of Colfax County Ordinance Number 2006-1\, the Colfax County Fire Marshal hereby declares effective immediately\, that the ban on open burning in the Farley\, Miami\, Rapid Response\, Ute Park\, Vermejo\, Philmont\, Moreno Valley\, and French Tract Fire Districts in Colfax County\, be lifted as of 8:00 AM July 29th\, 2020 \nBurn permits are required for all open burning other than recreational fires. A recreational fire is an open fire of 3 feet or less in diameter. Permits may be found on the Colfax County website. \nNick Cardenas\, Colfax County Fire Marshall \n Fire Marshal’s Office  230 N. 3rd St.\, Raton\, NM  87740 \n575-445-8931 Cell: 575-447-1639 Fax: 575-445-7154 \nE-mail nPhonecardenas@co.colfax.nm.us
URL:https://krtnradio.com/wp/event/fire-ban-lifted-in-districts-of-colfax-county/
CATEGORIES:Area Events
ATTACH;FMTTYPE=image/jpeg:https://krtnradio.com/wp/wp-content/uploads/2018/01/Colfax-County-fire-logo.jpg
END:VEVENT
END:VCALENDAR