BEGIN:VCALENDAR
VERSION:2.0
PRODID:-//KRTN Enchanted Air Radio - ECPv5.16.4.1//NONSGML v1.0//EN
CALSCALE:GREGORIAN
METHOD:PUBLISH
X-WR-CALNAME:KRTN Enchanted Air Radio
X-ORIGINAL-URL:https://krtnradio.com/wp
X-WR-CALDESC:Events for KRTN Enchanted Air Radio
BEGIN:VTIMEZONE
TZID:America/Denver
BEGIN:DAYLIGHT
TZOFFSETFROM:-0700
TZOFFSETTO:-0600
TZNAME:MDT
DTSTART:20200308T090000
END:DAYLIGHT
BEGIN:STANDARD
TZOFFSETFROM:-0600
TZOFFSETTO:-0700
TZNAME:MST
DTSTART:20201101T080000
END:STANDARD
END:VTIMEZONE
BEGIN:VEVENT
DTSTART;TZID=America/Denver:20200227T110000
DTEND;TZID=America/Denver:20200227T120000
DTSTAMP:20260424T024133
CREATED:20200219T212830Z
LAST-MODIFIED:20200219T212830Z
UID:60248-1582801200-1582804800@krtnradio.com
SUMMARY:February Health Council Meeting ~ Colfax County Health Council
DESCRIPTION:Guest speaker will be Kris Winterowd from the NM SHIP program.
URL:https://krtnradio.com/wp/event/february-health-council-meeting-colfax-county-health-council/
LOCATION:CYFD\, 1900 Hospital Drive\, Raton\, NM\, 87740\, United States
CATEGORIES:Meetings
ATTACH;FMTTYPE=image/jpeg:https://krtnradio.com/wp/wp-content/uploads/2020/02/SHIP-State-health-insurance-assistance-logo.jpg
END:VEVENT
END:VCALENDAR