BEGIN:VCALENDAR
VERSION:2.0
PRODID:-//KRTN Enchanted Air Radio - ECPv5.16.4.1//NONSGML v1.0//EN
CALSCALE:GREGORIAN
METHOD:PUBLISH
X-WR-CALNAME:KRTN Enchanted Air Radio
X-ORIGINAL-URL:https://krtnradio.com/wp
X-WR-CALDESC:Events for KRTN Enchanted Air Radio
BEGIN:VTIMEZONE
TZID:America/Denver
BEGIN:DAYLIGHT
TZOFFSETFROM:-0700
TZOFFSETTO:-0600
TZNAME:MDT
DTSTART:20180311T090000
END:DAYLIGHT
BEGIN:STANDARD
TZOFFSETFROM:-0600
TZOFFSETTO:-0700
TZNAME:MST
DTSTART:20181104T080000
END:STANDARD
END:VTIMEZONE
BEGIN:VEVENT
DTSTART;TZID=America/Denver:20180924T090000
DTEND;TZID=America/Denver:20180924T170000
DTSTAMP:20260425T102525
CREATED:20180823T174109Z
LAST-MODIFIED:20180920T202518Z
UID:42459-1537779600-1537808400@krtnradio.com
SUMMARY:REGENERATIVE RANCHING & FARMING WORKSHOP
DESCRIPTION:Mark your calendar and come to this special event featuring 3 pioneers in the regenerative ranching and farming movement. Learn from their years of experience and how they restore degrading landscapes — principles that can be applied in any\nenvironment. Request a detailed biography page about Ray\, Gabe and Alejandro by contacting Kim Barmann\n– 505-217-6657. (Call or text) Hosted by Cimarron Mercantile\, LLC & Colfax County Extension Service. Reserve your seat! Call or text Kim Barmann @ 505-217-6657 or email info@cimarronmercantile.com \nTOPICS: *Principles of a Healthy Soil Ecosystem *Increase organic matter\, regenerate soil health for greater profit/acre\n*Decrease impact of drought and flooding by improving soil water infiltration rates ** Plus much more!! \nCOST: $70 PER PERSON $50/PERSON – for Colfax residences and surrounding counties – Includes lunch. LIMITED TO 100\nATTENDEES
URL:https://krtnradio.com/wp/event/family-bingo-night-at-the-art-of-snacks/
LOCATION:Raton Convention Center\, 901 S 3rd\, Raton\, NM\, 87740\, United States
CATEGORIES:Area Events
ATTACH;FMTTYPE=image/jpeg:https://krtnradio.com/wp/wp-content/uploads/2018/08/farmranch.jpg
END:VEVENT
END:VCALENDAR