BEGIN:VCALENDAR
VERSION:2.0
PRODID:-//KRTN Enchanted Air Radio - ECPv5.16.4.1//NONSGML v1.0//EN
CALSCALE:GREGORIAN
METHOD:PUBLISH
X-WR-CALNAME:KRTN Enchanted Air Radio
X-ORIGINAL-URL:https://krtnradio.com/wp
X-WR-CALDESC:Events for KRTN Enchanted Air Radio
BEGIN:VTIMEZONE
TZID:America/Denver
BEGIN:DAYLIGHT
TZOFFSETFROM:-0700
TZOFFSETTO:-0600
TZNAME:MDT
DTSTART:20200308T090000
END:DAYLIGHT
BEGIN:STANDARD
TZOFFSETFROM:-0600
TZOFFSETTO:-0700
TZNAME:MST
DTSTART:20201101T080000
END:STANDARD
END:VTIMEZONE
BEGIN:VEVENT
DTSTART;TZID=America/Denver:20200625T100000
DTEND;TZID=America/Denver:20200625T130000
DTSTAMP:20260425T094310
CREATED:20200625T200222Z
LAST-MODIFIED:20200625T201600Z
UID:64013-1593079200-1593090000@krtnradio.com
SUMMARY:ELK'S THRIFT STORE TO ASSIST WITH COMMUNITY ELKS LODGE PROJECTS
DESCRIPTION:ELKS LODGE THRIFT STORE OPERATING HOURS WILL BE \nTHURSDAYS 10 AM TO 1 PM \nFRIDAYS 10 AM TO 1 PM \nWE ALLOW 3 PATRONS IN THE STORE TO KEEP SOCIAL DISTANCING. \nTHANK YOU FOR ALWAYS SUPPORTS THE RATON ELKS LODGE #865
URL:https://krtnradio.com/wp/event/elks-thrift-store-to-assist-with-community-elks-lodge-projects/
LOCATION:Elks #865 Thriftstore\, 1180 S 2nd Street\, Raton\, NM\, 87740
CATEGORIES:Meetings
ATTACH;FMTTYPE=image/jpeg:https://krtnradio.com/wp/wp-content/uploads/2015/10/Elks-Lodge-Elks-Care.jpg
END:VEVENT
END:VCALENDAR