BEGIN:VCALENDAR
VERSION:2.0
PRODID:-//KRTN Enchanted Air Radio - ECPv5.16.4.1//NONSGML v1.0//EN
CALSCALE:GREGORIAN
METHOD:PUBLISH
X-WR-CALNAME:KRTN Enchanted Air Radio
X-ORIGINAL-URL:https://krtnradio.com/wp
X-WR-CALDESC:Events for KRTN Enchanted Air Radio
BEGIN:VTIMEZONE
TZID:America/Denver
BEGIN:DAYLIGHT
TZOFFSETFROM:-0700
TZOFFSETTO:-0600
TZNAME:MDT
DTSTART:20240310T090000
END:DAYLIGHT
BEGIN:STANDARD
TZOFFSETFROM:-0600
TZOFFSETTO:-0700
TZNAME:MST
DTSTART:20241103T080000
END:STANDARD
END:VTIMEZONE
BEGIN:VEVENT
DTSTART;TZID=America/Denver:20240101T120000
DTEND;TZID=America/Denver:20240101T170000
DTSTAMP:20260425T154123
CREATED:20231206T183413Z
LAST-MODIFIED:20231206T183413Z
UID:87534-1704110400-1704128400@krtnradio.com
SUMMARY:Eagle Nest New Years Day Polar Plunge
DESCRIPTION:
URL:https://krtnradio.com/wp/event/eagle-nest-new-years-day-polar-plunge/
CATEGORIES:Area Events
END:VEVENT
END:VCALENDAR