BEGIN:VCALENDAR
VERSION:2.0
PRODID:-//KRTN Enchanted Air Radio - ECPv5.16.4.1//NONSGML v1.0//EN
CALSCALE:GREGORIAN
METHOD:PUBLISH
X-WR-CALNAME:KRTN Enchanted Air Radio
X-ORIGINAL-URL:https://krtnradio.com/wp
X-WR-CALDESC:Events for KRTN Enchanted Air Radio
BEGIN:VTIMEZONE
TZID:America/Denver
BEGIN:DAYLIGHT
TZOFFSETFROM:-0700
TZOFFSETTO:-0600
TZNAME:MDT
DTSTART:20230312T090000
END:DAYLIGHT
BEGIN:STANDARD
TZOFFSETFROM:-0600
TZOFFSETTO:-0700
TZNAME:MST
DTSTART:20231105T080000
END:STANDARD
END:VTIMEZONE
BEGIN:VEVENT
DTSTART;VALUE=DATE:20230128
DTEND;VALUE=DATE:20230129
DTSTAMP:20260425T210100
CREATED:20230111T191428Z
LAST-MODIFIED:20230111T191428Z
UID:81639-1674864000-1674950399@krtnradio.com
SUMMARY:Eagle Nest Lake Ice Fishing Tournament January 28\, 2023
DESCRIPTION:
URL:https://krtnradio.com/wp/event/eagle-nest-lake-ice-fishing-tournament-january-28-2023/
CATEGORIES:Area Events
ATTACH;FMTTYPE=image/png:https://krtnradio.com/wp/wp-content/uploads/2023/01/Screenshot-2023-01-11T121205.812.png
END:VEVENT
END:VCALENDAR