BEGIN:VCALENDAR
VERSION:2.0
PRODID:-//KRTN Enchanted Air Radio - ECPv5.16.4.1//NONSGML v1.0//EN
CALSCALE:GREGORIAN
METHOD:PUBLISH
X-WR-CALNAME:KRTN Enchanted Air Radio
X-ORIGINAL-URL:https://krtnradio.com/wp
X-WR-CALDESC:Events for KRTN Enchanted Air Radio
BEGIN:VTIMEZONE
TZID:America/Denver
BEGIN:DAYLIGHT
TZOFFSETFROM:-0700
TZOFFSETTO:-0600
TZNAME:MDT
DTSTART:20200308T090000
END:DAYLIGHT
BEGIN:STANDARD
TZOFFSETFROM:-0600
TZOFFSETTO:-0700
TZNAME:MST
DTSTART:20201101T080000
END:STANDARD
END:VTIMEZONE
BEGIN:VEVENT
DTSTART;TZID=America/Denver:20200607T110000
DTEND;TZID=America/Denver:20200607T140000
DTSTAMP:20260425T144034
CREATED:20200601T163325Z
LAST-MODIFIED:20200601T163325Z
UID:63293-1591527600-1591538400@krtnradio.com
SUMMARY:Drive Up Spaghetti Dinner ~ Hosted by Raton Elks Lodge #865
DESCRIPTION:Sunday at 11 AM – 2 PM \n$10 per plate. \nChoose from a Spaghetti Dinner or a Chef Salad. Spaghetti served with a small salad and garlic bread. \nEnter the Alley headed North off of Apache. \nServed fresh and hot at our back door. \n \nAll proceeds support our local Elks Lodge so that we can continue to support our community!!! \nhttps://www.facebook.com/Raton-Elks-Lodge-865-309594312502081/ \n \n 
URL:https://krtnradio.com/wp/event/drive-up-spaghetti-dinner-hosted-by-raton-elks-lodge-865/
LOCATION:Elk’s Lodge\, 300 S 2nd\, Raton\, 87740
CATEGORIES:Area Events
ATTACH;FMTTYPE=image/png:https://krtnradio.com/wp/wp-content/uploads/2020/02/spaghetti-dinner-fundraiser-clip-art.png
END:VEVENT
END:VCALENDAR