BEGIN:VCALENDAR
VERSION:2.0
PRODID:-//KRTN Enchanted Air Radio - ECPv5.16.4.1//NONSGML v1.0//EN
CALSCALE:GREGORIAN
METHOD:PUBLISH
X-WR-CALNAME:KRTN Enchanted Air Radio
X-ORIGINAL-URL:https://krtnradio.com/wp
X-WR-CALDESC:Events for KRTN Enchanted Air Radio
BEGIN:VTIMEZONE
TZID:America/Denver
BEGIN:DAYLIGHT
TZOFFSETFROM:-0700
TZOFFSETTO:-0600
TZNAME:MDT
DTSTART:20200308T090000
END:DAYLIGHT
BEGIN:STANDARD
TZOFFSETFROM:-0600
TZOFFSETTO:-0700
TZNAME:MST
DTSTART:20201101T080000
END:STANDARD
END:VTIMEZONE
BEGIN:VEVENT
DTSTART;TZID=America/Denver:20200619T073000
DTEND;TZID=America/Denver:20200619T073000
DTSTAMP:20260425T094334
CREATED:20200304T185116Z
LAST-MODIFIED:20200304T185116Z
UID:60752-1592551800-1592551800@krtnradio.com
SUMMARY:Donut Friday’s 2020! ~ Colie’s Cakes & Pastries
DESCRIPTION:**Every 1st & 3rd Friday ***\nColie’s opens at 7:30 am for those early birds on Donut Friyay! We plan on selling out! Order in advance\, please call the bakery: 719-846-2255 \nCinnamon Twist\, Vanilla glaze\, Chocolate glaze\, chocolate sprinkle\, Simpson\, Raspberry curd filled\, Maple\, Powdered sugar\, Tart Cherry filled\, Apple Fritter\, blueberry cake….! \nDuring November & December\, the holidays have our hands tied so be prepared and get our donuts while you can! \nhttps://www.coliespastries.com/online-ordering
URL:https://krtnradio.com/wp/event/donut-fridays-2020-colies-cakes-pastries-8/
LOCATION:Colie’s Cakes & Pastries\, 132 N Commercial\, Trinidad\, CO\, 81082\, United States
CATEGORIES:Meetings
ATTACH;FMTTYPE=image/png:https://krtnradio.com/wp/wp-content/uploads/2020/03/Colies-Cakes-Pastries-Logo.png
END:VEVENT
END:VCALENDAR